BEGIN:VCALENDAR
VERSION:2.0
PRODID:-//Town of Greenville - ECPv6.15.18//NONSGML v1.0//EN
CALSCALE:GREGORIAN
METHOD:PUBLISH
X-WR-CALNAME:Town of Greenville
X-ORIGINAL-URL:https://towngreenvillegreenecony.gov
X-WR-CALDESC:Events for Town of Greenville
REFRESH-INTERVAL;VALUE=DURATION:PT1H
X-Robots-Tag:noindex
X-PUBLISHED-TTL:PT1H
BEGIN:VTIMEZONE
TZID:America/New_York
BEGIN:DAYLIGHT
TZOFFSETFROM:-0500
TZOFFSETTO:-0400
TZNAME:EDT
DTSTART:20200308T070000
END:DAYLIGHT
BEGIN:STANDARD
TZOFFSETFROM:-0400
TZOFFSETTO:-0500
TZNAME:EST
DTSTART:20201101T060000
END:STANDARD
BEGIN:DAYLIGHT
TZOFFSETFROM:-0500
TZOFFSETTO:-0400
TZNAME:EDT
DTSTART:20210314T070000
END:DAYLIGHT
BEGIN:STANDARD
TZOFFSETFROM:-0400
TZOFFSETTO:-0500
TZNAME:EST
DTSTART:20211107T060000
END:STANDARD
BEGIN:DAYLIGHT
TZOFFSETFROM:-0500
TZOFFSETTO:-0400
TZNAME:EDT
DTSTART:20220313T070000
END:DAYLIGHT
BEGIN:STANDARD
TZOFFSETFROM:-0400
TZOFFSETTO:-0500
TZNAME:EST
DTSTART:20221106T060000
END:STANDARD
END:VTIMEZONE
BEGIN:VEVENT
DTSTART;TZID=America/New_York:20210825T170000
DTEND;TZID=America/New_York:20210825T190000
DTSTAMP:20260423T200847
CREATED:20210629T190809Z
LAST-MODIFIED:20210629T190809Z
UID:10000106-1629910800-1629918000@towngreenvillegreenecony.gov
SUMMARY:Rabies Clinic (Pre-Register Required)
DESCRIPTION:Please Call to Pre-Register at (518) 719-3600 \nThis is a DRIVE-UP ONLY clinic; you must wear a face mask and remain inside your vehicle at all times. \nBring record of pet’s previous vaccination for 3 year certificate\, if no record is present\, pet will be given 1 year certificate. \nPublic Health Law requires all cats\, dogs and ferrets to be vaccinated for rabies starting at 12 weeks old. If you are feeding a stray\, please bring them to be vaccinated.
URL:https://towngreenvillegreenecony.gov/event/rabies-clinic-pre-register-required/
LOCATION:Angelo Canna Town Park\, Joseph D Spencer Ln\, Cairo\, NY\, 12413\, United States
CATEGORIES:Community Events
END:VEVENT
END:VCALENDAR