BEGIN:VCALENDAR
VERSION:2.0
PRODID:-//Town of Greenville - ECPv6.15.18//NONSGML v1.0//EN
CALSCALE:GREGORIAN
METHOD:PUBLISH
X-WR-CALNAME:Town of Greenville
X-ORIGINAL-URL:https://towngreenvillegreenecony.gov
X-WR-CALDESC:Events for Town of Greenville
REFRESH-INTERVAL;VALUE=DURATION:PT1H
X-Robots-Tag:noindex
X-PUBLISHED-TTL:PT1H
BEGIN:VTIMEZONE
TZID:America/New_York
BEGIN:DAYLIGHT
TZOFFSETFROM:-0500
TZOFFSETTO:-0400
TZNAME:EDT
DTSTART:20220313T070000
END:DAYLIGHT
BEGIN:STANDARD
TZOFFSETFROM:-0400
TZOFFSETTO:-0500
TZNAME:EST
DTSTART:20221106T060000
END:STANDARD
BEGIN:DAYLIGHT
TZOFFSETFROM:-0500
TZOFFSETTO:-0400
TZNAME:EDT
DTSTART:20230312T070000
END:DAYLIGHT
BEGIN:STANDARD
TZOFFSETFROM:-0400
TZOFFSETTO:-0500
TZNAME:EST
DTSTART:20231105T060000
END:STANDARD
BEGIN:DAYLIGHT
TZOFFSETFROM:-0500
TZOFFSETTO:-0400
TZNAME:EDT
DTSTART:20240310T070000
END:DAYLIGHT
BEGIN:STANDARD
TZOFFSETFROM:-0400
TZOFFSETTO:-0500
TZNAME:EST
DTSTART:20241103T060000
END:STANDARD
END:VTIMEZONE
BEGIN:VEVENT
DTSTART;VALUE=DATE:20230704
DTEND;VALUE=DATE:20230705
DTSTAMP:20260425T155210
CREATED:20230619T011401Z
LAST-MODIFIED:20230619T011402Z
UID:10000201-1688428800-1688515199@towngreenvillegreenecony.gov
SUMMARY:TOWN HALL CLOSED
DESCRIPTION:Town Hall will be closed on July 4th in observance of Independence Day.
URL:https://towngreenvillegreenecony.gov/event/town-hall-closed-2/2023-07-04/
LOCATION:Pioneer Town Hall\, 11159 Route 32\, Greenville\, NY\, 12083\, United States
END:VEVENT
BEGIN:VEVENT
DTSTART;TZID=America/New_York:20230711T180000
DTEND;TZID=America/New_York:20230711T193000
DTSTAMP:20260425T155210
CREATED:20230605T135743Z
LAST-MODIFIED:20230607T132607Z
UID:10000141-1689098400-1689103800@towngreenvillegreenecony.gov
SUMMARY:Concert @ Veterans Park
DESCRIPTION:Free Summer Concert at Veterans Park \n(Corner of Routes 81 & 32) \nBring a lawn chair and enjoy some music and sunshine every Tuesday From July 11 – August 15 from 6:00-7:30 \nPlease view the FLYER for what bands will be playing! \nFor more information or in the event of inclement weather visit: CPOG website
URL:https://towngreenvillegreenecony.gov/event/concert-veterans-park/2023-07-11/
LOCATION:Veterans’ Park\, 11177 Route 32\, Greenville\, NY\, 12083\, United States
END:VEVENT
BEGIN:VEVENT
DTSTART;TZID=America/New_York:20230718T180000
DTEND;TZID=America/New_York:20230718T193000
DTSTAMP:20260425T155210
CREATED:20230605T135743Z
LAST-MODIFIED:20230607T132607Z
UID:10000142-1689703200-1689708600@towngreenvillegreenecony.gov
SUMMARY:Concert @ Veterans Park
DESCRIPTION:Free Summer Concert at Veterans Park \n(Corner of Routes 81 & 32) \nBring a lawn chair and enjoy some music and sunshine every Tuesday From July 11 – August 15 from 6:00-7:30 \nPlease view the FLYER for what bands will be playing! \nFor more information or in the event of inclement weather visit: CPOG website
URL:https://towngreenvillegreenecony.gov/event/concert-veterans-park/2023-07-18/
LOCATION:Veterans’ Park\, 11177 Route 32\, Greenville\, NY\, 12083\, United States
END:VEVENT
BEGIN:VEVENT
DTSTART;TZID=America/New_York:20230725T150000
DTEND;TZID=America/New_York:20230725T170000
DTSTAMP:20260425T155210
CREATED:20230720T135852Z
LAST-MODIFIED:20230720T135853Z
UID:10000205-1690297200-1690304400@towngreenvillegreenecony.gov
SUMMARY:Contractors Meeting
DESCRIPTION:All residents are welcome to attend.  This meeting is to discuss the sewer extension project\, representatives from Tech Industries and Delaware Engineering will be in attendance.
URL:https://towngreenvillegreenecony.gov/event/contractors-meeting/
LOCATION:Pioneer Town Hall\, 11159 Route 32\, Greenville\, NY\, 12083\, United States
END:VEVENT
BEGIN:VEVENT
DTSTART;TZID=America/New_York:20230725T180000
DTEND;TZID=America/New_York:20230725T193000
DTSTAMP:20260425T155210
CREATED:20230605T135743Z
LAST-MODIFIED:20230607T132607Z
UID:10000143-1690308000-1690313400@towngreenvillegreenecony.gov
SUMMARY:Concert @ Veterans Park
DESCRIPTION:Free Summer Concert at Veterans Park \n(Corner of Routes 81 & 32) \nBring a lawn chair and enjoy some music and sunshine every Tuesday From July 11 – August 15 from 6:00-7:30 \nPlease view the FLYER for what bands will be playing! \nFor more information or in the event of inclement weather visit: CPOG website
URL:https://towngreenvillegreenecony.gov/event/concert-veterans-park/2023-07-25/
LOCATION:Veterans’ Park\, 11177 Route 32\, Greenville\, NY\, 12083\, United States
END:VEVENT
BEGIN:VEVENT
DTSTART;TZID=America/New_York:20230731T180000
DTEND;TZID=America/New_York:20230731T180000
DTSTAMP:20260425T155210
CREATED:20230719T144341Z
LAST-MODIFIED:20230719T144342Z
UID:10000203-1690826400-1690826400@towngreenvillegreenecony.gov
SUMMARY:Special Meetng
DESCRIPTION:A special meeting of the Town Board of the Town of Greenville will be held to adopt vendor contracts for Greenville Day Monday\, July 31st\, 2023 at 6:00 pm in Pioneer Town Hall\, as well as any and all matters which may come before the Board.
URL:https://towngreenvillegreenecony.gov/event/special-meetng/
LOCATION:Pioneer Town Hall\, 11159 Route 32\, Greenville\, NY\, 12083\, United States
END:VEVENT
END:VCALENDAR