BEGIN:VCALENDAR
VERSION:2.0
PRODID:-//Town of Greenville - ECPv6.15.18//NONSGML v1.0//EN
CALSCALE:GREGORIAN
METHOD:PUBLISH
X-WR-CALNAME:Town of Greenville
X-ORIGINAL-URL:https://towngreenvillegreenecony.gov
X-WR-CALDESC:Events for Town of Greenville
REFRESH-INTERVAL;VALUE=DURATION:PT1H
X-Robots-Tag:noindex
X-PUBLISHED-TTL:PT1H
BEGIN:VTIMEZONE
TZID:America/New_York
BEGIN:DAYLIGHT
TZOFFSETFROM:-0500
TZOFFSETTO:-0400
TZNAME:EDT
DTSTART:20210314T070000
END:DAYLIGHT
BEGIN:STANDARD
TZOFFSETFROM:-0400
TZOFFSETTO:-0500
TZNAME:EST
DTSTART:20211107T060000
END:STANDARD
BEGIN:DAYLIGHT
TZOFFSETFROM:-0500
TZOFFSETTO:-0400
TZNAME:EDT
DTSTART:20220313T070000
END:DAYLIGHT
BEGIN:STANDARD
TZOFFSETFROM:-0400
TZOFFSETTO:-0500
TZNAME:EST
DTSTART:20221106T060000
END:STANDARD
BEGIN:DAYLIGHT
TZOFFSETFROM:-0500
TZOFFSETTO:-0400
TZNAME:EDT
DTSTART:20230312T070000
END:DAYLIGHT
BEGIN:STANDARD
TZOFFSETFROM:-0400
TZOFFSETTO:-0500
TZNAME:EST
DTSTART:20231105T060000
END:STANDARD
END:VTIMEZONE
BEGIN:VEVENT
DTSTART;TZID=America/New_York:20221003T180000
DTEND;TZID=America/New_York:20221003T200000
DTSTAMP:20260425T195155
CREATED:20220929T173933Z
LAST-MODIFIED:20220929T173941Z
UID:10000116-1664820000-1664827200@towngreenvillegreenecony.gov
SUMMARY:2023 Budget Workshop
DESCRIPTION:Special meeting of the Town Board of the Town of Greenville will be held to conduct budget workshop at Pioneer Town Hall.
URL:https://towngreenvillegreenecony.gov/event/2023-budget-workshop/
LOCATION:Pioneer Town Hall\, 11159 Route 32\, Greenville\, NY\, 12083\, United States
END:VEVENT
BEGIN:VEVENT
DTSTART;TZID=America/New_York:20221017T170000
DTEND;TZID=America/New_York:20221017T183000
DTSTAMP:20260425T195155
CREATED:20220929T174037Z
LAST-MODIFIED:20220929T174037Z
UID:10000115-1666026000-1666031400@towngreenvillegreenecony.gov
SUMMARY:2023 Budget Workshop
DESCRIPTION:Special meeting of the Town Board of the Town of Greenville will be held to conduct budget workshop at Pioneer Town Hall.
URL:https://towngreenvillegreenecony.gov/event/2023-budget-workshop-2/
LOCATION:Pioneer Town Hall\, 11159 Route 32\, Greenville\, NY\, 12083\, United States
END:VEVENT
BEGIN:VEVENT
DTSTART;TZID=America/New_York:20221017T183000
DTEND;TZID=America/New_York:20221017T184500
DTSTAMP:20260425T195155
CREATED:20220929T174656Z
LAST-MODIFIED:20220929T174656Z
UID:10000113-1666031400-1666032300@towngreenvillegreenecony.gov
SUMMARY:Freehold Fire Dept Contract Renewal Public Hearing
DESCRIPTION:A public hearing will before the Town Board of the Town of Greenville to regarding the contract renewal of the Freehold Fire Department.
URL:https://towngreenvillegreenecony.gov/event/freehold-fire-dept-contract-renewal-public-hearing/
LOCATION:Pioneer Town Hall\, 11159 Route 32\, Greenville\, NY\, 12083\, United States
END:VEVENT
BEGIN:VEVENT
DTSTART;TZID=America/New_York:20221017T184500
DTEND;TZID=America/New_York:20221017T190000
DTSTAMP:20260425T195155
CREATED:20220929T174453Z
LAST-MODIFIED:20220929T174453Z
UID:10000114-1666032300-1666033200@towngreenvillegreenecony.gov
SUMMARY:Tax Cap Override Public Hearing
DESCRIPTION:A public hearing will be held before the Town Board for the Town of Greenville\, regarding the adoption of a Local Law to Override the Tax Levy Limit established in General Municipal Law §3-c.
URL:https://towngreenvillegreenecony.gov/event/tax-cap-override-public-hearing/
LOCATION:Pioneer Town Hall\, 11159 Route 32\, Greenville\, NY\, 12083\, United States
END:VEVENT
BEGIN:VEVENT
DTSTART;TZID=America/New_York:20221018T190000
DTEND;TZID=America/New_York:20221018T200000
DTSTAMP:20260425T195155
CREATED:20220929T181303Z
LAST-MODIFIED:20220929T181303Z
UID:10000122-1666119600-1666123200@towngreenvillegreenecony.gov
SUMMARY:Greenville Fire District #1 2023 Budget Public Hearing
DESCRIPTION:A public hearing will be held before The Board of Fire Commissioners of the Greenville Fire District #1 on the proposed 2023 Budget.
URL:https://towngreenvillegreenecony.gov/event/greenville-fire-district-1-2023-budget-public-hearing/
LOCATION:Greenville Fire House\, SR 81 & 32\, NY\, United States
END:VEVENT
BEGIN:VEVENT
DTSTART;TZID=America/New_York:20221026T163000
DTEND;TZID=America/New_York:20221026T170000
DTSTAMP:20260425T195155
CREATED:20221025T154207Z
LAST-MODIFIED:20221025T154207Z
UID:10000102-1666801800-1666803600@towngreenvillegreenecony.gov
SUMMARY:Emergency Meeting
DESCRIPTION:An emergency meeting will be held by the Town Board to schedule a Public Hearing for the Greenville Rescue Squad Inc Contract renewal.
URL:https://towngreenvillegreenecony.gov/event/emergency-meeting/
LOCATION:Pioneer Town Hall\, 11159 Route 32\, Greenville\, NY\, 12083\, United States
END:VEVENT
END:VCALENDAR